BEGIN:VCALENDAR
VERSION:2.0
PRODID:-//Station Square Shopping Centre - ECPv6.15.18//NONSGML v1.0//EN
CALSCALE:GREGORIAN
METHOD:PUBLISH
X-WR-CALNAME:Station Square Shopping Centre
X-ORIGINAL-URL:https://stationsquare.com.au
X-WR-CALDESC:Events for Station Square Shopping Centre
REFRESH-INTERVAL;VALUE=DURATION:PT1H
X-Robots-Tag:noindex
X-PUBLISHED-TTL:PT1H
BEGIN:VTIMEZONE
TZID:Australia/Brisbane
BEGIN:STANDARD
TZOFFSETFROM:+1000
TZOFFSETTO:+1000
TZNAME:AEST
DTSTART:20220101T000000
END:STANDARD
END:VTIMEZONE
BEGIN:VEVENT
DTSTART;TZID=Australia/Brisbane:20251206T100000
DTEND;TZID=Australia/Brisbane:20251206T130000
DTSTAMP:20260421T220824
CREATED:20251124T002100Z
LAST-MODIFIED:20251201T023119Z
UID:19625-1765015200-1765026000@stationsquare.com.au
SUMMARY:Santa's Arrival to Station Square
DESCRIPTION:Santa Claus & his Reindeer are Coming to Town!\n\nJoin us from 10am as Santa makes his grand entrance\, accompanied by real-life reindeer from 10am–12pm. \n✨ Event Highlights: \n\n\n🎅 Santa arrives at 10am \n\n\n🦌 Real-life Reindeer: 10am–12pm \n\n\n📸 First 100 Santa Photos by Dan Filmer Photography FREE \n\n🌟 WIN a Santa Photos by Dan Filmer Photography family package valued at $60 (‘The Whole Sled’ Package – 5 x 5×7″ family photos + 8 x wallet-size prints)\n\n🎨 Free Face Painting \n\n\n🍿 Free Popcorn \n\n\nBring the family and kick off the festive season with a morning full of magic and Christmas cheer!
URL:https://stationsquare.com.au/event/santasarrival2025/
LOCATION:Station Square\, 142 Lennox Street\, Maryborough\, QLD\, 4650\, Australia
CATEGORIES:Christmas
ATTACH;FMTTYPE=image/jpeg:https://stationsquare.com.au/wp-content/uploads/2025/11/1080x1350.jpg
END:VEVENT
BEGIN:VEVENT
DTSTART;TZID=Australia/Brisbane:20241207T100000
DTEND;TZID=Australia/Brisbane:20241209T120000
DTSTAMP:20260421T220824
CREATED:20241119T051204Z
LAST-MODIFIED:20241119T051204Z
UID:16798-1733565600-1733745600@stationsquare.com.au
SUMMARY:Santa's Reindeer
DESCRIPTION:THEY’RE BACK…\nJoin us at Station Square Shopping Centre with two of Santa’s favourite reindeer for 3 DAYS ONLY \nYou will catch them 10am – 12pm \nSaturday\, 7 Dec \nSunday\, 8 Dec \nMonday\, 9 Dec
URL:https://stationsquare.com.au/event/santas-reindeer-2/
LOCATION:Station Square\, 142 Lennox Street\, Maryborough\, QLD\, 4650\, Australia
CATEGORIES:Christmas
ATTACH;FMTTYPE=image/jpeg:https://stationsquare.com.au/wp-content/uploads/2024/11/600x350px-WebFeature-1.jpg
END:VEVENT
BEGIN:VEVENT
DTSTART;TZID=Australia/Brisbane:20241207T100000
DTEND;TZID=Australia/Brisbane:20241207T130000
DTSTAMP:20260421T220824
CREATED:20241119T050058Z
LAST-MODIFIED:20241119T050058Z
UID:16793-1733565600-1733576400@stationsquare.com.au
SUMMARY:Santa's Arrival 2024
DESCRIPTION:🎅 Santa’s Coming to Station Square! 🎄\nGet ready for a magical day of festive fun at Station Square Shopping Centre on Saturday\, December 7th! \nSanta and his real-life reindeer are making a special appearance\, and we’ve got a sleigh full of surprises for the whole family: \n✨ Free face painting\n🦌 Meet Santa’s real reindeer\n🍿 Free popcorn\n📸 Free Santa photos \nJoin us for an unforgettable day filled with holiday cheer and joy! Don’t miss out on this special celebration—it’s the perfect way to kick off the Christmas season. \n📅 When: Saturday\, December 7th\n📍 Where: Station Square Shopping Centre \nMark your calendar and bring the whole family for a day to remember!
URL:https://stationsquare.com.au/event/santas-arrival-2024/
LOCATION:Station Square\, 142 Lennox Street\, Maryborough\, QLD\, 4650\, Australia
CATEGORIES:Christmas
ATTACH;FMTTYPE=image/jpeg:https://stationsquare.com.au/wp-content/uploads/2024/11/600x350px-WebFeature.jpg
END:VEVENT
BEGIN:VEVENT
DTSTART;TZID=Australia/Brisbane:20231209T100000
DTEND;TZID=Australia/Brisbane:20231224T143000
DTSTAMP:20260421T220824
CREATED:20231129T024249Z
LAST-MODIFIED:20231214T233107Z
UID:15362-1702116000-1703428200@stationsquare.com.au
SUMMARY:Santa Photos
DESCRIPTION:Photo Prices & Packages
URL:https://stationsquare.com.au/event/santa-photos/
LOCATION:Station Square\, 142 Lennox Street\, Maryborough\, QLD\, 4650\, Australia
CATEGORIES:Christmas
ATTACH;FMTTYPE=image/png:https://stationsquare.com.au/wp-content/uploads/2023/11/Website-Featured-.png
END:VEVENT
BEGIN:VEVENT
DTSTART;TZID=Australia/Brisbane:20231209T100000
DTEND;TZID=Australia/Brisbane:20231209T143000
DTSTAMP:20260421T220824
CREATED:20231114T004233Z
LAST-MODIFIED:20231130T055507Z
UID:15331-1702116000-1702132200@stationsquare.com.au
SUMMARY:Santa's Arrival
DESCRIPTION:Join Santa & his Reindeer \n\n\n\n\n\n\n\n\n\n\n\n\n\n\nEmbark on a magical journey as we welcome Santa and his enchanting reindeer on December 9th\, starting at 10 am!\nThe festivities kick off early with complimentary face painting 9am – 12pm\, setting the stage for a day filled with joy and wonder.\nCapture timeless memories with free photos alongside Santa\, indulge in free popcorn\, and delight in exclusive giveaways with each visit to Santa’s magical realm.\nDon’t miss this extraordinary event brimming with holiday cheer and special surprises for the whole family!\n\n\n\n\n\n\n\n\n\n\n\n\n\n\nItinerary:\n9am – 12pm – Free Facepainting\n10am – 12pm – Real Reindeer Static Display\n10am – 12pm; 12.30pm – 2.30pm – Photos with Santa\nfrom 10am – Free Popcorn*\n*while stocks last\n\n\n\n\n\n\n\n\n\n\n\n\n\n\nFREE POPCORN* from 10amFREE FACE PAINTING from 9amFREE Reindeer Interaction 10am - 12pmFREE Santa Photos ^ from 10am\n			\n\n\n\n\n\n\n\n\n\n\n\n\n\n*whilst stocks last\n^First 100 photos with Santa Free. Applies to single 5″x7″ photos only. 1 per family. No purchase neccessary.
URL:https://stationsquare.com.au/event/santas-arrival-2/
LOCATION:Station Square\, 142 Lennox Street\, Maryborough\, QLD\, 4650\, Australia
CATEGORIES:Christmas
ATTACH;FMTTYPE=image/jpeg:https://stationsquare.com.au/wp-content/uploads/2023/11/600x350px-WebFeature.jpg
END:VEVENT
END:VCALENDAR